Workbook

Sheet صورت وضعیت 
A1: صندوق سرمایه گذاری سهامی اهرمی پیشران پارسیان
A2: صورت وضعیت پرتفوی
A3: برای ماه منتهی به 1404/03/27
A6: برای ماه منتهی به 1405/05/27

Sheet سهام
A1: صندوق سرمایه گذاری سهامی اهرمی پیشران پارسیان
A2: صورت وضعیت پرتفوی
A3: برای ماه منتهی به 1405/05/27
A4: -1 | B4: سرمایه گذاری ها
A5: -1-1 | C5: سرمایه گذاری در سهام و حق تقدم سهام
E6: 1405/04/27 | K6: تغییرات طی دوره | S6: 1405/05/27
K7: خرید طی دوره | O7: فروش طی دوره
A8: نام شرکت | E8: تعداد | G8: بهای تمام شده | I8: خالص ارزش فروش | K8: تعداد | M8: بهای تمام شده | O8: تعداد | Q8: مبلغ فروش | S8: تعداد | U8: قیمت بازار هر سهم | W8: بهای تمام شده | Y8: خالص ارزش فروش | AA8: درصد به کل دارایی ها
A9: ملی‌ صنایع‌ مس‌ ایران‌ | E9: 105816085 | G9: 874365728556 | I9: 2.0275138e+12 | K9: 39303117 | M9: 0 | O9: 0 | Q9: 0 | S9: 145119202 | U9: 18800 | W9: 874365728556 | Y9: 2707151694688 | AA9: 12.908786
A10: سرمایه گذاری تامین اجتماعی | E10: 405600000 | G10: 593029939843 | I10: 820625547768 | K10: 0 | M10: 0 | O10: 19600000 | Q10: 50902775636 | S10: 386000000 | U10: 2890 | W10: 564372674508 | Y10: 1106916875800 | AA10: 5.278224
A11: سرمایه‌گذاری‌غدیر(هلدینگ‌ | E11: 55000000 | G11: 577535629013 | I11: 711656044000 | K11: 0 | M11: 0 | O11: 1000000 | Q11: 15900134560 | S11: 54000000 | U11: 18220 | W11: 567034981210 | Y11: 976274607600 | AA11: 4.6552692
A12: پالایش نفت بندرعباس | E12: 55000000 | G12: 185796372446 | I12: 570852931000 | K12: 0 | M12: 0 | O12: 0 | Q12: 0 | S12: 55000000 | U12: 12310 | W12: 185796372446 | Y12: 671816403500 | AA12: 3.2034903
A13: بانک خاورمیانه | E13: 97000000 | G13: 236894581491 | I13: 481250950000 | K13: 3000000 | M13: 19408640184 | O13: 0 | Q13: 0 | S13: 100000000 | U13: 6330 | W13: 256303221675 | Y13: 628106910000 | AA13: 2.9950659
A14: بانک ملت | E14: 446800000 | G14: 367289795212 | I14: 490340937016 | K14: 0 | M14: 0 | O14: 11800000 | Q14: 14789705576 | S14: 435000000 | U14: 1325 | W14: 357589661853 | Y14: 571919621250 | AA14: 2.7271423
A15: صنایع پتروشیمی خلیج فارس | E15: 48917775 | G15: 388026633411 | I15: 5.1888876e+11 | K15: 12229444 | M15: 0 | O15: 1 | Q15: 1 | S15: 61147218 | U15: 9300 | W15: 388026633411 | Y15: 564273315045 | AA15: 2.6906817
A16: پالایش نفت اصفهان | E16: 62489107 | G16: 232594142925 | I16: 6.1199987e+11 | K16: 0 | M16: 0 | O16: 12489107 | Q16: 137721863947 | S16: 50000000 | U16: 11210 | W16: 186107750690 | Y16: 556167335000 | AA16: 2.6520291
A17: بانک‌اقتصادنوین‌ | E17: 116272059 | G17: 240610003204 | I17: 3.9688407e+11 | K17: 38500253 | M17: 41440415122 | O17: 2 | Q17: 2 | S17: 154772310 | U17: 3340 | W17: 282050418326 | Y17: 512943572945 | AA17: 2.4459209
A18: صنعت غذایی کورش | E18: 20812335 | G18: 183538372136 | I18: 3.7090014e+11 | K18: 0 | M18: 0 | O18: 0 | Q18: 0 | S18: 20812335 | U18: 19510 | W18: 183538372136 | Y18: 402909899740 | AA18: 1.9212361
A19: کشاورزی و دامپروری بینالود | E19: 20000000 | G19: 131501851759 | I19: 227229830000 | K19: 6692262 | M19: 86667876488 | O19: 0 | Q19: 0 | S19: 26692262 | U19: 13620 | W19: 218169728247 | Y19: 360738377696 | AA19: 1.7201454
A20: مدیریت نیروگاهی ایرانیان مپنا | E20: 4481742 | G20: 82798968976 | I20: 1.2171708e+11 | K20: 4831044 | M20: 153393244139 | O20: 0 | Q20: 0 | S20: 9312786 | U20: 35800 | W20: 236192213115 | Y20: 330820574279 | AA20: 1.5774853
... A91: کیمیا کالای رازی | E91: 401250 | G91: 3710647578 | I91: 5.9363917e+09 | K91: 0 | M91: 0 | O91: 401250 | Q91: 5981380772 | S91: 0 | U91: 0 | W91: 0 | Y91: 0 | AA91: 0
A92: جمع | E92: =SUM(E9:E91) -> 3066465227 | G92: =SUM(G9:G91) -> 11530634551435 | I92: =SUM(I9:I91) -> 1.6096239e+13 | K92: =SUM(K9:K91) -> 231929630 | M92: =SUM(M9:M91) -> 624696719588 | O92: =SUM(O9:O91) -> 563836668 | Q92: =SUM(Q9:Q91) -> 2531186685344 | S92: =SUM(S9:S91) -> 2734558189 | W92: =SUM(W9:W91) -> 9868265290512 | Y92: =SUM(Y9:Y91) -> 17258324388515 | AA92: =SUM(AA9:AA91) -> 82.294618

Sheet گواهی سپرده کالایی 
B1: صندوق سرمایه گذاری سهامی اهرمی پیشران پارسیان
B2: صورت وضعیت پرتفوی
B3: برای ماه منتهی به 1405/05/27
A5: -2-1 | B5: سرمایه گذاری در گواهی سپرده کالایی
F7: ‫اطلاعات اوراق بهادار با درآمد ثابت | R7: 1405/04/27 | X7: ‫تغییرات طی دوره | AD7: 1405/05/27
A8: ‫نام اوراق | D8: یادداشت توضیحی | F8: ‫دارای مجوز از سازمان | H8: ‫پذیرفته شده در بورس یا فرابورس | J8: ‫تاریخ انتشار اوراق | L8: ‫تاریخ سررسید | N8: ‫نرخ سود اسمی | P8: ‫نرخ سود مؤثر | R8: ‫تعداد | T8: ‫بهای تمام شده | V8: ‫خالص ارزش فروش | X8: ‫خرید طی دوره | AA8: ‫فروش طی دوره | AD8: ‫تعداد | AF8: ‫قیمت بازار هر ورقه | AH8: ‫بهای تمام شده | AJ8: ‫خالص ارزش فروش | AL8: ‫درصد به کل دارایی ها
X9: ‫تعداد | Y9: ‫بهای تمام شده | AA9: ‫تعداد | AB9: ‫مبلغ فروش
A10: شمش طلا GoldBar | D10: 1-1-2 | F10: ‫خیر | H10: بورس کالا | J10: ‫0000/00/02 | L10: 0 | N10: 0 | P10: 0 | R10: 37406 | T10: 389643160558 | V10: 939249398352 | X10: 0 | Y10: 0 | AA10: 0 | AB10: 0 | AD10: 37406 | AF10: 25700000 | AH10: 389643160558 | AJ10: 959026997920 | AL10: 4.5730257
A11: مس کاتد CopperCthd | R11: 7000 | T11: 72483299106 | V11: 153630190504 | X11: 0 | Y11: 0 | AA11: 0 | AB11: 0 | AD11: 7000 | AF11: 24389950 | AH11: 72483299106 | AJ11: 165137735952 | AL11: 0.78744301
A12: جمع | B12: ‫جمع | R12: =SUM(R10:R11) -> 44406 | T12: =SUM(T10:T11) -> 462126459664 | V12: =SUM(V10:V11) -> 1092879588856 | X12: =SUM(X10:$X$10) -> 0 | Y12: =SUM(Y10:Y11) -> 0 | AA12: =SUM(AA10:AA11) -> 0 | AB12: =SUM(AB10:AB11) -> 0 | AD12: =SUM(AD10:AD11) -> 44406 | AH12: =SUM(AH10:AH11) -> 462126459664 | AJ12: =SUM(AJ10:AJ11) -> 1124164733872 | AL12: =SUM(AL10:AL11) -> 5.3604687

Sheet اوراق مشتقه
A1: صندوق سرمایه گذاری سهامی اهرمی پیشران پارسیان
A2: صورت وضعیت پرتفوی
A3: برای ماه منتهی به 1405/05/27
A5: اطلاعات آماری مرتبط با اوراق اختیار فروش تبعی خریداری شده توسط صندوق سرمایه گذاری:
I6: 1405/04/27 | AC6: 1405/05/27
A8: نام سهام | I8: تعداد اوراق تبعی | M8: قیمت اعمال | Q8: تاریخ اعمال | W8: نرخ سود موثر | AC8: تعداد اوراق تبعی | AI8: قیمت اعمال | AM8: تاریخ اعمال | AQ8: نرخ سود موثر
A9: اختیارف ت وبملت-1383-05/07/27 | I9: 379658006 | M9: 973 | Q9: 1405/07/27 | W9: 0.19912949 | AC9: 379658006 | AI9: 973 | AM9: 1405/07/27 | AQ9: 0.19912949
A10: اختیارف ت فولاد-2899-05/07/04 | I10: 51811416 | M10: 2247 | Q10: 1405/07/04 | W10: 0.19834763 | AC10: 51811416 | AI10: 2247 | AM10: 1405/07/04 | AQ10: 0.19834763
A11: اختیارف ت وغدیر-10779-05/06/28 | I11: 28000000 | M11: 9279 | Q11: 1405/06/28 | W11: 0.19912949 | AC11: 28000000 | AI11: 9279 | AM11: 1405/06/28 | AQ11: 0.19912949
A12: اختیارف ت فارس-9242-05/06/31 | I12: 40000000 | M12: 8732 | Q12: 1405/06/31 | W12: 0.19912949 | AC12: 40000000 | AI12: 8732 | AM12: 1405/06/31 | AQ12: 0.19912949
A13: اختیارف ت شستا-1496-05/07/13 | I13: 204000000 | M13: 1306 | Q13: 1405/07/13 | W13: 0.19912949 | AC13: 204000000 | AI13: 1306 | AM13: 1405/07/13 | AQ13: 0.19912949

Sheet اوراق
A1: صندوق سرمایه گذاری سهامی اهرمی پیشران پارسیان
A2: صورت وضعیت پرتفوی
A3: برای ماه منتهی به 1405/05/27
A5: -3-1 | B5: سرمایه‌گذاری در اوراق بهادار با درآمد ثابت یا علی‌الحساب
A6: اطلاعات اوراق با درآمد ثابت | P6: 1405/04/27 | V6: تغییرات طی دوره | AD6: 1405/05/27
V7: خرید طی دوره | Z7: فروش طی دوره
A8: نام اوراق | D8: دارای مجوز از سازمان | F8: پذیرفته شده در بورس یا فرابورس | H8: تاریخ انتشار اوراق | J8: تاریخ سررسید | L8: نرخ سود اسمی | N8: نرخ سود موثر | P8: تعداد | R8: بهای تمام شده | T8: خالص ارزش فروش | V8: تعداد | X8: بهای تمام شده | Z8: تعداد | AB8: مبلغ فروش | AD8: تعداد | AF8: قیمت بازار هر سهم | AH8: بهای تمام شده | AJ8: خالص ارزش فروش | AL8: درصد به کل دارایی ها
A9: مرابحه عالیس-پارسیان070224 | D9: بله | F9: بله | H9: 1403/02/24 | J9: 1407/02/24 | L9: 23 | N9: 23 | P9: 0 | R9: 0 | T9: 0 | V9: 60000 | X9: 51736116225 | Z9: 0 | AB9: 0 | AD9: 60000 | AF9: 851800 | AH9: 51736116225 | AJ9: 51080210025 | AL9: 0.24357095
A10: جمع | P10: 0 | R10: 0 | T10: 0 | V10: 60000 | X10: 51736116225 | Z10: 0 | AB10: 0 | AD10: 60000 | AH10: 51736116225 | AJ10: 51080210025 | AL10: 0.24

Sheet تعدیل قیمت
A1: صندوق سرمایه گذاری سهامی اهرمی پیشران پارسیان
A2: صورت وضعیت پرتفوی
A3: برای ماه منتهی به 1405/05/27
A4: اوراق بهاداری که ارزش آنها در تاریخ گزارش تعدیل شده
A5: (بر اساس دستورالعمل نحوه تعیین قیمت خرید و فروش اوراق بهادار در صندوق های سرمایه گذاری)
C7: 1405/05/27
A8: نام اوراق بهادار | C8: تعداد | E8: قیمت پایانی | G8: قیمت تعدیل شده | I8: درصد تعدیل | K8: خالص ارزش فروش تعدیل شده | M8: دلیل تعدیل
A9: مبین انرژی خلیج فارس | C9: 23482082 | E9: 13260 | G9: 7430 | I9: -43.97 | K9: 174471869260 | M9: تعدیل ناشی از جنگ رمضان
A10: فجر انرژی خلیج فارس | C10: 7079893 | E10: 11080 | G10: 6390 | I10: -42.33 | K10: 45240516270 | M10: تعدیل ناشی از جنگ رمضان
A11: جمع | C11: 30561975 | K11: 219712385530

Sheet سپرده
A1: صندوق سرمایه گذاری سهامی اهرمی پیشران پارسیان
A2: صورت وضعیت پرتفوی
A3: برای ماه منتهی به 1405/05/27
A5: -4-1 | B5: سرمایه‌گذاری در سپرده‌ بانکی
D6: 1405/04/27 | F6: تغییرات طی دوره | J6: 1405/05/27
A7: سپرده های بانکی | D7: مبلغ | F7: افزایش | H7: کاهش | J7: مبلغ | L7: درصد به کل دارایی ها
A8: بانک گردشگری | D8: 18033591 | F8: 2110803510006 | H8: 200000750000 | J8: 1910820793597 | L8: 9.1115606
A9: بانک خاورمیانه | D9: 129622719489 | F9: 2421820205241 | H9: 2547335907849 | J9: 4107016881 | L9: 0.019583905
A10: بانک پارسیان | D10: 1556018022 | F10: 179558424519 | H10: 181094761000 | J10: 19681541 | L10: 9.3849488e-05
A11: بانک ملت | D11: 12261797 | F11: 1990511 | G11: 0 | H11: 3612319 | I11: 0 | J11: 10639989 | L11: 5.0735739e-05
A12: بانک پاسارگاد | D12: 3521802 | F12: 12280 | H12: 630000 | J12: 2904082 | L12: 1.3847829e-05
A13: جمع | D13: 131212554701 | F13: 4712184142557 | H13: 2928435661168 | J13: 1914961036090 | L13: =SUM(L8:L12) -> 9.1313029

Sheet درآمد
A1: صندوق سرمایه گذاری سهامی اهرمی پیشران پارسیان
A2: صورت وضعیت درآمدها
A3: برای ماه منتهی به 1405/05/27
A5: -2 | B5: درآمد حاصل از سرمایه گذاری ها
A7: شرح | D7: یادداشت | F7: مبلغ | H7: درصد از کل درآمدها | J7: درصد از کل دارایی ها
A8: درآمد حاصل از سرمایه گذاری در سهام و حق تقدم سهام | D8: 1-2 | F8: ='درآمد سرمایه گذاری در سهام'!T109 -> 6897505082839 | H8: 97.097967 | J8: 32.890073
A9: درآمد حاصل از سرمایه گذاری در گواهی سپرده کالایی | D9: 2-2 | F9: ='درآمد حاصل ازگواهی سپرده کالایی'!Q11 -> 143749185571 | H9: 2.0235945 | J9: 0.68545382
A10: درآمد حاصل از سرمایه گذاری در اوراق بهادار با درآمد ثابت | D10: 3-2 | F10: ='درآمد سرمایه گذاری در اوراق به'!R13 -> 41767674003 | H10: 0.58797437 | J10: 0.19916504
A11: درآمد حاصل از سرمایه گذاری در سپرده بانکی و گواهی سپرده | D11: 4-2 | F11: ='درآمد سپرده بانکی'!H13 -> 13864733721 | H11: 0.19517745 | J11: 0.066112616
A12: سایر درآمدها | D12: 5-2 | F12: ='سایر درآمدها'!F10 -> 6768865729 | H12: 0.095287077 | J12: 0.032276669
A13: جمع | F13: =SUM(F8:F12) -> 7103655541863 | H13: =SUM(H8:H12) -> 100 | J13: 20.530666

Sheet درآمد سرمایه گذاری در سهام
A1: صندوق سرمایه گذاری سهامی اهرمی پیشران پارسیان
A2: صورت وضعیت درآمدها
A3: برای ماه منتهی به 1405/05/27
A5: -1-2 | B5: درآمد حاصل از سرمایه­گذاری در سهام و حق تقدم سهام
D6: طی ماه | N6: از ابتدای سال مالی
J7: جمع | T7: جمع
A8: سهام | D8: درآمد سود سهام | F8: درآمد تغییر ارزش | H8: درآمد فروش | J8: مبلغ | L8: درصد از کل درآمدها | N8: درآمد سود سهام | P8: درآمد تغییر ارزش | R8: درآمد فروش | T8: مبلغ | V8: درصد از کل درآمدها
A9: ملی‌ صنایع‌ مس‌ ایران‌ | D9: 29230113696 | F9: 679637868827 | H9: 0 | J9: 708867982523 | L9: 20.300511 | N9: 29230113696 | P9: 1218028194221 | R9: 2143303857 | T9: 1249401611774 | V9: 17.425859
A10: سرمایه گذاری تامین اجتماعی | D10: 0 | F10: 319152666083 | H10: 18041437585 | J10: 337194103668 | L10: 9.6565407 | N10: 0 | P10: 459749708074 | R10: 12950490426 | T10: 472700198500 | V10: 6.5929218
A11: پالایش نفت اصفهان | D11: 45617048110 | F11: 8293510816 | H11: 73595814708 | J11: 127506373634 | L11: 3.6515184 | N11: 45617048110 | P11: 299439416419 | R11: 72822617831 | T11: 417879082360 | V11: 5.8283118
A12: بانک خاورمیانه | D12: 16102000000 | F12: 127447319815 | H12: 0 | J12: 143549319815 | L12: 4.1109552 | N12: 16102000000 | P12: 355560270115 | R12: 156022258 | T12: 371818292373 | V12: 5.1858851
A13: پالایش نفت بندرعباس | D13: 61478879588 | F13: 100963472499 | H13: 0 | J13: 162442352087 | L13: 4.6520125 | N13: 61478879588 | P13: 291618823460 | R13: -963322336 | T13: 352134380712 | V13: 4.9113465
A14: داروسازی‌ فارابی‌ | D14: 21829581994 | F14: -78190875991 | H14: 107006397859 | J14: 50645103862 | L14: 1.4503709 | N14: 21829581994 | P14: 98929319009 | R14: 107006423880 | T14: 227765324883 | V14: 3.1767256
A15: نفت سپاهان | D15: 37896174863 | F15: 17482968158 | H15: 17090290290 | J15: 72469433311 | L15: 2.0753745 | N15: 37896174863 | P15: 161332350058 | R15: 17090290290 | T15: 216318815211 | V15: 3.0170773
A16: صنعت غذایی کورش | D16: 0 | F16: 32009756258 | H16: 0 | J16: 32009756258 | L16: 0.91669312 | N16: 33299736000 | P16: 177388779271 | R16: 0 | T16: 210688515271 | V16: 2.9385495
A17: بانک ملت | D17: 20552800000 | F17: 92830902874 | H17: 3537486935 | J17: 116921189809 | L17: 3.3483807 | N17: 20552800000 | P17: 157113256133 | R17: 22002371111 | T17: 199668427244 | V17: 0.10835896
A18: بانک‌اقتصادنوین‌ | D18: 14650279434 | F18: 74619089145 | H18: -3539 | J18: 89269365040 | L18: 2.5564897 | N18: 14650279434 | P18: 178039436478 | R18: 144020172 | T18: 192833736084 | V18: 2.6895224
A19: پخش البرز | D19: 0 | F19: -53848240620 | H19: 59453090139 | J19: 5604849519 | L19: 0.16051128 | N19: 13597746410 | P19: 110022897625 | R19: 59453090139 | T19: 183073734174 | V19: 2.553396
A20: سرمایه گذاری دارویی تامین | D20: 0 | F20: 6478002517 | H20: 29921988176 | J20: 36399990693 | L20: 1.0424203 | N20: 0 | P20: 141446355664 | R20: 29921988176 | T20: 171368343840 | V20: 2.3901367
... A82: بانک صادرات ایران | D82: 0 | F82: 0 | H82: 3374250273 | J82: 3374250273 | L82: 0.096631539 | N82: 0 | P82: 0 | R82: 3374250273 | T82: 3374250273 | V82: 0.047061898
A83: پتروشیمی بوعلی سینا | J83: 2382941040 | L83: 0.068242496 | P83: 0 | R83: 2382941040 | T83: 2382941040 | V83: 0.033235747
A84: کشت و صنعت هلال | D84: 0 | F84: -239657302 | H84: 691958712 | J84: 452301410 | L84: 0.012952976 | N84: 487459283 | P84: 1155026373 | R84: 691958712 | T84: 2334444368 | V84: 0.032559346
A85: کویر تایر | D85: 0 | F85: 0 | H85: 0 | J85: 0 | L85: 0 | N85: 5800000000 | P85: 0 | R85: -4031759728 | T85: 1768240272 | V85: 0.024662291
A86: حفاری شمال | D86: 0 | F86: 0 | H86: 0 | J86: 0 | L86: 0 | N86: 0 | P86: 0 | R86: 1176485516 | T86: 1176485516 | V86: 0.016408872
A87: کیمیا کالای رازی | D87: 0 | F87: 0 | H87: 957943198 | J87: 957943198 | L87: 0.027433509 | N87: 0 | P87: 0 | R87: 957943198 | T87: 957943198 | V87: 0.013360783
A88: توسعه فن افزار توسن | D88: 0 | F88: 0 | H88: 0 | J88: 0 | L88: 0 | N88: 0 | P88: 0 | R88: 539532930 | T88: 539532930 | V88: 0.0075250623
A89: پتروشیمی جم | D89: 0 | F89: 0 | H89: -9766037994 | J89: -9766037994 | L89: -0.2796791 | N89: 12498000000 | P89: 0 | R89: -12030204229 | T89: 467795771 | V89: 0.006524518
A90: سیمان فارس نو | D90: 0 | F90: 0 | H90: 0 | J90: 0 | L90: 0 | N90: 0 | P90: 0 | R90: 449093913 | T90: 449093913 | V90: 0.0062636764
A91: مجتمع کاشی و سنگ پرسپولیس یزد | D91: 0 | F91: 0 | H91: -55262144 | J91: -55262144 | L91: -0.0015825933 | N91: 474641656 | P91: 0 | R91: -55262144 | T91: 419379512 | V91: 0.0058492388
A92: ح . معدنی و صنعتی گل گهر | D92: 0 | F92: 0 | H92: 0 | J92: 0 | L92: 0 | N92: 0 | P92: 0 | R92: 302002614 | T92: 302002614 | V92: 0.0042121405
A93: ح . توسعه‌معادن‌وفلزات‌ | D93: 0 | F93: 0 | H93: 0 | J93: 0 | L93: 0 | N93: 0 | P93: 0 | R93: 249808527 | T93: 249808527 | V93: 0.0034841705
A94: شرکت بهمن لیزینگ | D94: 0 | F94: 0 | H94: 0 | J94: 0 | L94: 0 | N94: 0 | P94: 0 | R94: 16918906 | T94: 16918906 | V94: 0.00023597414
A95: گروه صنعتی درپاد تبریز | D95: 0 | F95: 0 | H95: -606160452 | J95: -606160452 | L95: -0.01735918 | N95: 0 | P95: 0 | R95: -730733149 | T95: -730733149 | V95: -0.010191801
... A108: مبین انرژی خلیج فارس | D108: 0 | F108: 0 | H108: 0 | J108: 0 | L108: 0 | N108: 35504300034 | P108: -173123201710 | R108: 0 | T108: -137618901676 | V108: -1.9194209
A109: جمع | D109: =SUM(D9:D108) -> 362345347977 | F109: =SUM(F9:F108) -> 2623477502048 | H109: =SUM(H9:H108) -> 279115049561 | J109: =SUM(J9:J108) -> 3267320840626 | L109: =SUM(L9:L108) -> 93.569301 | N109: =SUM(N9:N108) -> 857978024424 | P109: =SUM(P9:P108) -> 5681006907579 | R109: =SUM(R9:R108) -> 358520150836 | T109: =SUM(T9:T108) -> 6897505082839 | V109: =SUM(V9:V108) -> 76.50134

Sheet درآمد حاصل ازگواهی سپرده کالایی
A1: صندوق سرمایه گذاری سهامی اهرمی پیشران پارسیان
A2: صورت وضعیت درآمدها
A3: برای ماه منتهی به 1405/05/27
A5: ‫2-2- درآمد حاصل از سرمایه گذاری در گواهی سپرده کالایی:
C7: طی ماه | M7: از ابتدای سال مالی
C8: ‫درآمد سود اوراق | E8: ‫درآمد تغییر ارزش | G8: ‫درآمد فروش | I8: ‫جمع | K8: درصد از کل درآمدها | M8: ‫درآمد تغییر ارزش | O8: ‫درآمد فروش | Q8: ‫جمع | S8: درصد از کل درآمدها
A9: شمش طلا GoldBar | C9: 0 | E9: 19777599568 | G9: 0 | I9: 19777599568 | K9: 0.56638949 | M9: 91750672235 | O9: 0 | Q9: 91750672235 | S9: 1.27968
A10: مس کاتد CopperCthd | C10: 0 | E10: -5182162887 | G10: 0 | I10: -5182162887 | K10: -0.14840641 | M10: 51998513336 | O10: 0 | Q10: 51998513336 | S10: 0.7252422
A11: ‫جمع | C11: =SUM(C10:C10) -> 0 | E11: =SUM(E9:E10) -> 14595436681 | G11: =SUM(G10:G10) -> 0 | I11: =SUM(I9:I10) -> 14595436681 | K11: -22.343955 | M11: =SUM(M9:M10) -> 143749185571 | O11: =SUM(O10:O10) -> 0 | Q11: =SUM(Q9:Q10) -> 143749185571 | S11: =SUM(S9:S10) -> 2.0049222

Sheet درآمد سرمایه گذاری در اوراق به
A1: صندوق سرمایه گذاری سهامی اهرمی پیشران پارسیان
A2: صورت وضعیت درآمدها
A3: برای ماه منتهی به 1405/05/27
A5: -3-2 | B5: درآمد حاصل از سرمایه­گذاری در اوراق بهادار با درآمد ثابت:
D6: طی ماه | L6: از ابتدای سال مالی
A8: عنوان | D8: درآمد سود اوراق | F8: درآمد تغییر ارزش | H8: درآمد فروش | J8: جمع | L8: درآمد سود اوراق | N8: درآمد تغییر ارزش | P8: درآمد فروش | R8: جمع
A9: صکوک مرابحه پتایر073-بدون ضامن | D9: 0 | F9: 0 | H9: 0 | J9: 0 | L9: 20374352157 | N9: 0 | P9: 10083360142 | R9: 30457712299
A10: مرابحه عالیس-پارسیان070224 | D10: 936747444 | F10: -655906199 | H10: 0 | J10: 280841245 | L10: 5569078395 | N10: -655906199 | P10: 917605258 | R10: 5830777454
A11: مرابحه پکاشیمی-لوتوس071219 | D11: 0 | F11: 0 | H11: 0 | J11: 0 | L11: 3441378599 | N11: 0 | P11: 1876179273 | R11: 5317557872
A12: صکوک مرابحه کویر510-بدون ضامن | D12: 0 | F12: 0 | H12: 0 | J12: 0 | L12: 127728349 | N12: 0 | P12: 33898029 | R12: 161626378
A13: جمع | D13: 936747444 | F13: -655906199 | H13: 0 | J13: 280841245 | L13: 29512537500 | N13: -655906199 | P13: 12911042702 | R13: 41767674003

Sheet درآمد سپرده بانکی
A1: صندوق سرمایه گذاری سهامی اهرمی پیشران پارسیان
A2: صورت وضعیت درآمدها
A3: برای ماه منتهی به 1405/05/27
A5: -4-2 | B5: درآمد حاصل از سرمایه­گذاری در سپرده بانکی
D6: طی ماه | H6: از ابتدای سال مالی
A7: نام سپرده بانکی | D7: سود سپرده بانکی | F7: درصد سود | H7: سود سپرده بانکی | J7: درصد سود
A8: بانک گردشگری | D8: 12122939331 | F8: =D8/$D$13*100 -> 99.962833 | H8: 13840831989 | J8: 99.827608
A9: بانک خاورمیانه | D9: 4463831 | F9: =D9/$D$13*100 -> 0.036807673 | H9: 15376686 | J9: 0.11090502
A10: بانک پارسیان | D10: 31332 | F10: =D10/$D$13*100 -> 0.00025835611 | H10: 8407613 | J10: 0.060640277
A11: بانک پاسارگاد | D11: 12280 | F11: =D11/$D$13*100 -> 0.00010125792 | H11: 62010 | J11: 0.00044724984
A12: بانک ملت | D12: 0 | F12: =D12/$D$13*100 -> 0 | H12: 55423 | J12: 0.00039974082
A13: جمع | D13: =SUM(D8:D12) -> 12127446774 | F13: =SUM(F8:F12) -> 100 | H13: =SUM(H8:H12) -> 13864733721 | J13: =SUM(J8:J12) -> 100

Sheet سایر درآمدها
A1: صندوق سرمایه گذاری سهامی اهرمی پیشران پارسیان
A2: صورت وضعیت درآمدها
A3: برای ماه منتهی به 1405/05/27
A5: -5-2 | B5: سایر درآمدها
D6: طی ماه | F6: 1405/05/27
A7: سایر درآمدها | D7: مبلغ | F7: مبلغ
A8: تعدیل کارمزد کارگزار | D8: 2767946473 | F8: 6590830258
A9: سایر درآمدها | D9: 0 | F9: 178035471
A10: جمع | D10: 2767946473 | F10: 6768865729

Sheet درآمد سود سهام
A1: صندوق سرمایه گذاری سهامی اهرمی پیشران پارسیان
A2: صورت وضعیت درآمدها
A3: برای ماه منتهی به 1405/05/27
A5: درآمد سود سهام
A6: نام سهام | C6: اطلاعات مجمع | I6: طی ماه | O6: از ابتدای سال مالی
C7: تاریخ تشکیل مجمع | E7: تعداد سهام متعلقه در زمان مجمع | G7: سود متعلق به هر سهم | I7: جمع درآمد سود سهام | K7: هزینه تنزیل | M7: خالص درآمد سود سهام | O7: جمع درآمد سود سهام | Q7: هزینه تنزیل | S7: خالص درآمد سود سهام
A8: پالایش نفت بندرعباس | C8: 1405/05/18 | E8: 55000000 | G8: 1189 | I8: 65395000000 | K8: 3916120412 | M8: 61478879588 | O8: 65395000000 | Q8: 3916120412 | S8: 61478879588
A9: پالایش نفت اصفهان | C9: 1405/04/30 | E9: 62489107 | G9: 740 | I9: 46241939180 | K9: 624891070 | M9: 45617048110 | O9: 46241939180 | Q9: 624891070 | S9: 45617048110
A10: تامین سرمایه لوتوس پارسیان | C10: 1405/01/30 | E10: 66640310 | G10: 615 | I10: 0 | K10: 0 | M10: 0 | O10: 40983790650 | Q10: 0 | S10: 40983790650
A11: نفت سپاهان | C11: 1405/04/31 | E11: 19000000 | G11: 2000 | I11: 38000000000 | K11: 103825137 | M11: 37896174863 | O11: 38000000000 | Q11: 103825137 | S11: 37896174863
A12: مبین انرژی خلیج فارس | C12: 1405/04/27 | E12: 23482082 | G12: 1600 | I12: 0 | K12: 0 | M12: 0 | O12: 37571331200 | Q12: 2067031166 | S12: 35504300034
A13: صنعت غذایی کورش | C13: 1405/04/21 | E13: 20812335 | G13: 1600 | I13: 0 | K13: 0 | M13: 0 | O13: 33299736000 | Q13: 0 | S13: 33299736000
A14: پتروشیمی پارس | C14: 1405/04/24 | E14: 73987784 | G14: 440 | I14: 0 | K14: 0 | M14: 0 | O14: 32554624960 | Q14: 0 | S14: 32554624960
A15: ملی‌ صنایع‌ مس‌ ایران‌ | C15: 1405/04/31 | E15: 66512968 | G15: 450 | I15: 29930835600 | K15: 700721904 | M15: 29230113696 | O15: 29930835600 | Q15: 700721904 | S15: 29230113696
A16: کشاورزی و دامپروری بینالود | C16: 1405/04/09 | E16: 18746870 | G16: 1360 | I16: 0 | K16: 0 | M16: 0 | O16: 25495743200 | Q16: 429221266 | S16: 25066521934
A17: سیمان‌هگمتان‌ | C17: 1405/03/31 | E17: 1000000 | G17: 22700 | I17: 0 | K17: 0 | M17: 0 | O17: 22700000000 | Q17: 471965124 | S17: 22228034876
A18: داروسازی‌ فارابی‌ | C18: 1405/04/30 | E18: 25000000 | G18: 930 | I18: 23250000000 | K18: 1420418006 | M18: 21829581994 | O18: 23250000000 | Q18: 1420418006 | S18: 21829581994
A19: پتروشیمی اروند | C19: 1405/04/23 | E19: 3731467 | G19: 6000 | I19: 0 | K19: 0 | M19: 0 | O19: 22388802000 | Q19: 1231746388 | S19: 21157055612
... A68: مجتمع کاشی و سنگ پرسپولیس یزد | C68: 1405/04/21 | E68: 1256500 | G68: 400 | I68: 0 | K68: 0 | M68: 0 | O68: 502600000 | Q68: 27958344 | S68: 474641656
A69: جمع | I69: 373806724316 | K69: 11461376339 | M69: 362345347977 | O69: 879433597056 | Q69: 21455572632 | S69: 857978024424

Sheet سود اوراق بهادار
A1: صندوق سرمایه گذاری سهامی اهرمی پیشران پارسیان
A2: صورت وضعیت درآمدها
A3: برای ماه منتهی به 1405/05/27
A5: سود اوراق بهادار با درآمد ثابت
A6: شرح | G6: طی ماه | M6: از ابتدای سال مالی
C7: تاریخ سررسید | E7: نرخ سود علی الحساب | G7: درآمد سود | I7: هزینه تنزیل | K7: خالص درآمد | M7: درآمد سود | O7: هزینه تنزیل | Q7: خالص درآمد
A8: صکوک مرابحه پتایر073-بدون ضامن | C8: 1407/03/06 | E8: 26 | G8: 0 | I8: 0 | K8: 0 | M8: 20374352157 | O8: 0 | Q8: 20374352157
A9: مرابحه عالیس-پارسیان070224 | C9: 1407/02/24 | E9: 23 | G9: 936747444 | I9: 0 | K9: 936747444 | M9: 5569078395 | O9: 0 | Q9: 5569078395
A10: مرابحه پکاشیمی-لوتوس071219 | C10: 1407/12/19 | E10: 23 | G10: 0 | I10: 0 | K10: 0 | M10: 3441378599 | O10: 0 | Q10: 3441378599
A11: صکوک مرابحه کویر510-بدون ضامن | C11: 1405/10/24 | E11: 24 | G11: 0 | I11: 0 | K11: 0 | M11: 127728349 | O11: 0 | Q11: 127728349
A12: جمع | G12: =SUM(G8:G11) -> 936747444 | I12: 0 | K12: =SUM(K8:K11) -> 936747444 | M12: =SUM(M8:M11) -> 29512537500 | O12: 0 | Q12: =SUM(Q8:Q11) -> 29512537500

Sheet سود سپرده بانکی
A1: صندوق سرمایه گذاری سهامی اهرمی پیشران پارسیان
A2: صورت وضعیت درآمدها
A3: برای ماه منتهی به 1405/05/27
A5: سود سپرده بانکی
A6: شرح | C6: طی ماه | I6: از ابتدای سال مالی
C7: درآمد سود | E7: هزینه تنزیل | G7: خالص درآمد | I7: درآمد سود | K7: هزینه تنزیل | M7: خالص درآمد
A8: بانک گردشگری | C8: 12122939331 | E8: 57410440 | F8: 0 | G8: 12065528891 | H8: 0 | I8: 13840831989 | J8: 0 | K8: 57410440 | L8: 0 | M8: 13783421549
A9: بانک خاورمیانه | C9: 4463831 | E9: 0 | G9: 4463831 | I9: 15376686 | K9: 0 | M9: 15376686
A10: بانک پارسیان | C10: 31332 | G10: 31332 | I10: 8407613 | M10: 8407613
A11: بانک پاسارگاد | C11: 12280 | E11: 0 | G11: 12280 | I11: 62010 | K11: 0 | M11: 62010
A12: بانک ملت | C12: 0 | I12: 55423 | M12: 55423
A13: جمع | C13: =SUM(C8:C12) -> 12127446774 | E13: =SUM(E8:E12) -> 57410440 | G13: =SUM(G8:G12) -> 12070036334 | I13: =SUM(I8:I12) -> 13864733721 | K13: =SUM(K8:K12) -> 57410440 | M13: =SUM(M8:M12) -> 13807323281

Sheet درآمد ناشی از فروش
A1: صندوق سرمایه گذاری سهامی اهرمی پیشران پارسیان
A2: صورت وضعیت درآمدها
A3: برای ماه منتهی به 1405/05/27
A5: سود(زیان) حاصل از فروش اوراق بهادار
A6: شرح | C6: طی ماه | K6: از ابتدای سال مالی
C7: تعداد | E7: خالص بهای فروش | G7: ارزش دفتری | I7: سود و زیان ناشی از فروش | K7: تعداد | M7: خالص بهای فروش | O7: ارزش دفتری | Q7: سود و زیان ناشی از فروش
A8: داروسازی‌ فارابی‌ | C8: 15000000 | E8: 199138667368 | G8: 92132269509 | I8: 107006397859 | K8: 15000000 | M8: 199138693389 | O8: 92132269509 | Q8: 107006423880
A9: پالایش نفت اصفهان | C9: 12489107 | E9: 137721863947 | G9: 64126049239 | I9: 73595814708 | K9: 26036081 | M9: 206383882088 | O9: 133561264257 | Q9: 72822617831
A10: پخش البرز | C10: 10973286 | E10: 123041711159 | G10: 63588621020 | I10: 59453090139 | K10: 10973286 | M10: 123041711159 | O10: 63588621020 | Q10: 59453090139
A11: فولاد خراسان | C11: 41942275 | E11: 100857527773 | G11: 70417759574 | I11: 30439768199 | K11: 41942275 | M11: 100857527773 | O11: 70417759574 | Q11: 30439768199
A12: سرمایه گذاری دارویی تامین | C12: 3145564 | E12: 79872870539 | G12: 49950882363 | I12: 29921988176 | K12: 3145564 | M12: 79872870539 | O12: 49950882363 | Q12: 29921988176
A13: بانک ملت | C13: 11800000 | E13: 14789705576 | G13: 11252218641 | I13: 3537486935 | K13: 235653644 | M13: 227234375598 | O13: 205232004487 | Q13: 22002371111
A14: پالایش نفت تهران | C14: 0 | E14: 0 | G14: 0 | I14: 0 | K14: 24189063 | M14: 95374465757 | O14: 74214436130 | Q14: 21160029627
A15: گروه مالی مهرگان تامین پارس | C15: 19804173 | E15: 182509142431 | G15: 162317976494 | I15: 20191165937 | K15: 19804173 | M15: 182509142431 | O15: 162317976494 | Q15: 20191165937
A16: تولیدی‌مهرام‌ | C16: 1937500 | E16: 35296284470 | G16: 15187932685 | I16: 20108351785 | K16: 1937500 | M16: 35296284470 | O16: 15187932685 | Q16: 20108351785
A17: نفت سپاهان | C17: 2116390 | E17: 33890532731 | G17: 16800242441 | I17: 17090290290 | K17: 2116390 | M17: 33890532731 | O17: 16800242441 | Q17: 17090290290
A18: گروه مالی نماد غدیر(سهامی عام) | C18: 22560364 | E18: 82204180119 | G18: 65232723916 | I18: 16971456203 | K18: 22560364 | M18: 82204180119 | O18: 65232723916 | Q18: 16971456203
A19: سرمایه گذاری صدرتامین | C19: 0 | E19: 0 | G19: 0 | I19: 0 | K19: 9734574 | M19: 112820929008 | O19: 95907862549 | Q19: 16913066459
... A82: سرمایه‌گذاری‌غدیر(هلدینگ‌ | C82: 1000000 | E82: 15900134560 | G82: 13929101303 | I82: 1971033257 | K82: 36000000 | M82: 404142989560 | O82: 485555032302 | Q82: -81412042742
A83: جمع | C83: 563836668 | E83: 2531186685344 | G83: 2252071635783 | I83: 279115049561 | K83: 1024353954 | M83: =SUM(M8:M82) -> 6963154475643 | O83: =SUM(O8:O82) -> 6591723282105 | Q83: =SUM(Q8:Q82) -> 371431193538

Sheet درآمد ناشی از تغییر قیمت اوراق
A1: صندوق سرمایه گذاری سهامی اهرمی پیشران پارسیان
A2: صورت وضعیت درآمدها
A3: برای ماه منتهی به 1405/05/27
A5: درآمد ناشی از تغییر قیمت اوراق بهادار
A6: شرح | C6: طی ماه | K6: از ابتدای سال مالی
C7: تعداد | E7: خالص ارزش فروش | G7: ارزش دفتری | I7: سود و زیان ناشی از تغییر قیمت | K7: تعداد | M7: خالص ارزش فروش | O7: ارزش دفتری | Q7: سود و زیان ناشی از تغییر قیمت
A8: ملی‌ صنایع‌ مس‌ ایران‌ | C8: 145119202 | E8: 2707151694688 | G8: 2027513825861 | I8: 679637868827 | K8: 145119202 | M8: =2707151694688-6717 -> 2707151687971 | O8: 1489123493750 | Q8: 1218028194221
A9: سرمایه گذاری تامین اجتماعی | C9: 386000000 | E9: 1106916875800 | G9: 787764209717 | I9: 319152666083 | K9: 386000000 | M9: 1106916875800 | O9: 647167167726 | Q9: 459749708074
A10: بانک خاورمیانه | C10: 100000000 | E10: 628106910000 | G10: 500659590184 | I10: 127447319815 | K10: 100000000 | M10: 628106910000 | O10: 272546639885 | Q10: 355560270115
A11: پالایش نفت اصفهان | C11: 50000000 | E11: 556167335000 | G11: 547873824183 | I11: 8293510816 | K11: 50000000 | M11: 556167335000 | O11: 256727918581 | Q11: 299439416419
A12: پالایش نفت بندرعباس | C12: 55000000 | E12: 671816403500 | G12: 570852931000 | I12: 100963472499 | K12: 55000000 | M12: 671816403500 | O12: 380197580040 | Q12: 291618823460
A13: سرمایه‌گذاری‌غدیر(هلدینگ‌ | C13: 54000000 | E13: 976274607600 | G13: 697726942697 | I13: 278547664903 | K13: 54000000 | M13: 976274607600 | O13: 752171470178 | Q13: 224103137422
A14: بانک‌اقتصادنوین‌ | C14: 154772310 | E14: 512943572945 | G14: 438324483800 | I14: 74619089145 | K14: 154772310 | M14: 512943572945 | O14: 334904136467 | Q14: 178039436478
A15: صنعت غذایی کورش | C15: 20812335 | E15: 402909899740 | G15: 370900143482 | I15: 32009756258 | K15: 20812335 | M15: 402909899740 | O15: 225521120469 | Q15: 177388779271
A16: نفت سپاهان | C16: 16883610 | E16: 295357147617 | G16: 277874179459 | I16: 17482968158 | K16: 16883610 | M16: 295357147617 | O16: 134024797559 | Q16: 161332350058
A17: بانک ملت | C17: 435000000 | E17: 571919621250 | G17: 479088718375 | I17: 92830902874 | K17: 435000000 | M17: 571919621250 | O17: 414806365117 | Q17: 157113256133
A18: کشاورزی و دامپروری بینالود | C18: 26692262 | E18: 360738377696 | G18: 313897706488 | I18: 46840671208 | K18: 26692262 | M18: 360738377696 | O18: 218990557340 | Q18: 141747820356
A19: سرمایه گذاری دارویی تامین | C19: 11823347 | E19: 329198587926 | G19: 322720585409 | I19: 6478002517 | K19: 11823347 | M19: 329198587926 | O19: 187752232262 | Q19: 141446355664
A20: شرکت صنایع غذایی مینو شرق | C20: 30072597 | E20: 232753059436 | G20: 209179352134 | I20: 23573707302 | K20: 30072597 | M20: 232753059436 | O20: 108651315590 | Q20: 124101743846
... A74: مبین انرژی خلیج فارس | C74: 23482082 | E74: 173123201710 | G74: 173123201710 | I74: 0 | K74: 23482082 | M74: 173123201710 | O74: 346246403421 | Q74: -173123201710
A75: جمع | C75: =SUM(C8:C74) -> 2682110918 | E75: =SUM(E8:E74) -> 18410886060559 | G75: =SUM(G8:G74) -> 15773469028020 | I75: =SUM(I8:I74) -> 2637417032530 | K75: =SUM(K8:K74) -> 2682110918 | M75: =SUM(M8:M74) -> 18410886053842 | O75: =SUM(O8:O74) -> 12586785866889 | Q75: =SUM(Q8:Q74) -> 5824100186951
